BEGIN:VCALENDAR
VERSION:2.0
PRODID:-//wp-events-plugin.com//7.2.3.1//EN
TZID:America/Argentina/Buenos_Aires
X-WR-TIMEZONE:America/Argentina/Buenos_Aires
BEGIN:VEVENT
UID:21@soldurand.com.ar
DTSTART;TZID=America/Argentina/Buenos_Aires:20240424T190000
DTEND;TZID=America/Argentina/Buenos_Aires:20240424T200000
DTSTAMP:20240419T174758Z
URL:https://soldurand.com.ar/evento/charla-con-experto-dr-sol-durand/
SUMMARY:[Charla con Experto] Herramienta del Estrés: Mi Diario del Estrés
DESCRIPTION:
LOCATION:http://meet.google.com/xrm-immf-tws
END:VEVENT
BEGIN:VTIMEZONE
TZID:America/Argentina/Buenos_Aires
X-LIC-LOCATION:America/Argentina/Buenos_Aires
BEGIN:STANDARD
DTSTART:20230425T190000
TZOFFSETFROM:-0300
TZOFFSETTO:-0300
TZNAME:-03
END:STANDARD
END:VTIMEZONE
END:VCALENDAR