BEGIN:VCALENDAR
VERSION:2.0
PRODID:-//wp-events-plugin.com//7.2.3.1//EN
TZID:America/Argentina/Buenos_Aires
X-WR-TIMEZONE:America/Argentina/Buenos_Aires
BEGIN:VEVENT
UID:22@soldurand.com.ar
DTSTART;TZID=America/Argentina/Buenos_Aires:20240521T190000
DTEND;TZID=America/Argentina/Buenos_Aires:20240521T200000
DTSTAMP:20240508T180812Z
URL:https://soldurand.com.ar/evento/charla-con-experto-organizacion-y-plan
 ificacion-en-la-cocina/
SUMMARY:[Charla con Experto]: Organización y Planificación en la Cocina
DESCRIPTION:
LOCATION:http://meet.google.com/xrm-immf-tws
END:VEVENT
BEGIN:VTIMEZONE
TZID:America/Argentina/Buenos_Aires
X-LIC-LOCATION:America/Argentina/Buenos_Aires
BEGIN:STANDARD
DTSTART:20230522T190000
TZOFFSETFROM:-0300
TZOFFSETTO:-0300
TZNAME:-03
END:STANDARD
END:VTIMEZONE
END:VCALENDAR