BEGIN:VCALENDAR
VERSION:2.0
PRODID:-//wp-events-plugin.com//7.2.3.1//EN
TZID:America/Argentina/Buenos_Aires
X-WR-TIMEZONE:America/Argentina/Buenos_Aires
BEGIN:VEVENT
UID:20@soldurand.com.ar
DTSTART;TZID=America/Argentina/Buenos_Aires:20240417T190000
DTEND;TZID=America/Argentina/Buenos_Aires:20240417T200000
DTSTAMP:20240417T154755Z
URL:https://soldurand.com.ar/evento/encuentro-de-consulta/
SUMMARY:Encuentro de Consulta con Dra. Sol Durand
DESCRIPTION:
LOCATION:https://meet.google.com/xrm-immf-tws?hs=224
END:VEVENT
BEGIN:VTIMEZONE
TZID:America/Argentina/Buenos_Aires
X-LIC-LOCATION:America/Argentina/Buenos_Aires
BEGIN:STANDARD
DTSTART:20230418T190000
TZOFFSETFROM:-0300
TZOFFSETTO:-0300
TZNAME:-03
END:STANDARD
END:VTIMEZONE
END:VCALENDAR