BEGIN:VCALENDAR
VERSION:2.0
PRODID:-//wp-events-plugin.com//7.2.3.1//EN
TZID:America/Argentina/Buenos_Aires
X-WR-TIMEZONE:America/Argentina/Buenos_Aires
BEGIN:VEVENT
UID:27@soldurand.com.ar
DTSTART;TZID=America/Argentina/Buenos_Aires:20240821T193000
DTEND;TZID=America/Argentina/Buenos_Aires:20240821T203000
DTSTAMP:20240810T022108Z
URL:https://soldurand.com.ar/evento/masterclass-basta-de-postergarte/
SUMMARY:Masterclass: ¡Basta de postergarTE!
DESCRIPTION:
LOCATION:https://meet.google.com/xrm-immf-tws
END:VEVENT
BEGIN:VTIMEZONE
TZID:America/Argentina/Buenos_Aires
X-LIC-LOCATION:America/Argentina/Buenos_Aires
BEGIN:STANDARD
DTSTART:20230822T193000
TZOFFSETFROM:-0300
TZOFFSETTO:-0300
TZNAME:-03
END:STANDARD
END:VTIMEZONE
END:VCALENDAR