BEGIN:VCALENDAR
VERSION:2.0
PRODID:-//wp-events-plugin.com//7.2.3.1//EN
TZID:America/Argentina/Buenos_Aires
X-WR-TIMEZONE:America/Argentina/Buenos_Aires
BEGIN:VEVENT
UID:25@soldurand.com.ar
DTSTART;TZID=America/Argentina/Buenos_Aires:20240724T190000
DTEND;TZID=America/Argentina/Buenos_Aires:20240724T200000
DTSTAMP:20240724T140043Z
URL:https://soldurand.com.ar/evento/masterclass-incorpora-el-yoga-en-tu-di
 a-a-dia-y-potencia-tu-bienestar/
SUMMARY:Masterclass: Incorporá el Yoga en tu día a día y potenciá tu bi
 enestar
DESCRIPTION:
LOCATION:https://meet.google.com/xrm-immf-tws
END:VEVENT
BEGIN:VTIMEZONE
TZID:America/Argentina/Buenos_Aires
X-LIC-LOCATION:America/Argentina/Buenos_Aires
BEGIN:STANDARD
DTSTART:20230725T190000
TZOFFSETFROM:-0300
TZOFFSETTO:-0300
TZNAME:-03
END:STANDARD
END:VTIMEZONE
END:VCALENDAR