BEGIN:VCALENDAR
VERSION:2.0
PRODID:-//wp-events-plugin.com//7.2.3.1//EN
TZID:America/Argentina/Buenos_Aires
X-WR-TIMEZONE:America/Argentina/Buenos_Aires
BEGIN:VEVENT
UID:24@soldurand.com.ar
DTSTART;TZID=America/Argentina/Buenos_Aires:20240615T103000
DTEND;TZID=America/Argentina/Buenos_Aires:20240615T113000
DTSTAMP:20240611T171636Z
URL:https://soldurand.com.ar/evento/masterclass-re-conecta-con-tu-cuerpo-y
 -calma-tu-mente-con-el-reiki/
SUMMARY:Masterclass: Re-conectá con tu cuerpo y calmá tu mente con el Rei
 ki
DESCRIPTION:
LOCATION:http://meet.google.com/xrm-immf-tws
END:VEVENT
BEGIN:VTIMEZONE
TZID:America/Argentina/Buenos_Aires
X-LIC-LOCATION:America/Argentina/Buenos_Aires
BEGIN:STANDARD
DTSTART:20230616T103000
TZOFFSETFROM:-0300
TZOFFSETTO:-0300
TZNAME:-03
END:STANDARD
END:VTIMEZONE
END:VCALENDAR