BEGIN:VCALENDAR
VERSION:2.0
PRODID:-//wp-events-plugin.com//7.2.3.1//EN
TZID:America/Argentina/Buenos_Aires
X-WR-TIMEZONE:America/Argentina/Buenos_Aires
BEGIN:VEVENT
UID:26@soldurand.com.ar
DTSTART;TZID=America/Argentina/Buenos_Aires:20240816T203000
DTEND;TZID=America/Argentina/Buenos_Aires:20240816T213000
DTSTAMP:20240810T021920Z
URL:https://soldurand.com.ar/evento/vivo-de-instagram-con-ceci/
SUMMARY:Vivo de Instagram con Ceci
DESCRIPTION:Vamos a estar charlando de las consecuencias de procrastinar nu
 estra salud y todo lo que vamos a estar viendo en la Masterclass del 21/08
 . ¡No se lo pierdan!
LOCATION:https://www.instagram.com/metanoia.medfuncional/
END:VEVENT
BEGIN:VTIMEZONE
TZID:America/Argentina/Buenos_Aires
X-LIC-LOCATION:America/Argentina/Buenos_Aires
BEGIN:STANDARD
DTSTART:20230817T203000
TZOFFSETFROM:-0300
TZOFFSETTO:-0300
TZNAME:-03
END:STANDARD
END:VTIMEZONE
END:VCALENDAR